BEGIN:VCALENDAR
VERSION:2.0
PRODID:-//TBC Singapore - ECPv6.15.20//NONSGML v1.0//EN
CALSCALE:GREGORIAN
METHOD:PUBLISH
X-ORIGINAL-URL:https://www.tbcsingapore.com
X-WR-CALDESC:Events for TBC Singapore
REFRESH-INTERVAL;VALUE=DURATION:PT1H
X-Robots-Tag:noindex
X-PUBLISHED-TTL:PT1H
BEGIN:VTIMEZONE
TZID:Asia/Shanghai
BEGIN:STANDARD
TZOFFSETFROM:+0800
TZOFFSETTO:+0800
TZNAME:CST
DTSTART:20240101T000000
END:STANDARD
END:VTIMEZONE
BEGIN:VEVENT
DTSTART;TZID=Asia/Shanghai:20251012T100000
DTEND;TZID=Asia/Shanghai:20251012T120000
DTSTAMP:20260423T154206
CREATED:20250911T102435Z
LAST-MODIFIED:20250911T102926Z
UID:656-1760263200-1760270400@www.tbcsingapore.com
SUMMARY:TBC Anniversary Service
DESCRIPTION:We warmly invite you to join us as we celebrate our church anniversary! \nCome and be part of a day filled with worship\, thanksgiving\, and celebration as we look back with gratitude and look forward with hope. \nEveryone is welcome!
URL:https://www.tbcsingapore.com/event/tbc-anniversary/
END:VEVENT
END:VCALENDAR